View In:
ArcGIS JavaScript
ArcGIS Online Map Viewer
ArcGIS Earth
Service Description: COTTFN/1945_Cemetery
Name: COTTFN/1945_Cemetery
Description:
Single Fused Map Cache: false
Extent:
XMin: -9068481.725489903
YMin: 5275112.2905573575
XMax: -9062899.271349613
YMax: 5282234.956986419
Spatial Reference: 102100
(3857)
Initial Extent:
XMin: -9068481.725489903
YMin: 5275112.2905573575
XMax: -9062899.271349613
YMax: 5282234.956986419
Spatial Reference: 102100
(3857)
Full Extent:
XMin: -9068481.725489903
YMin: 5275112.2905573575
XMax: -9062899.271349613
YMax: 5282234.956986419
Spatial Reference: 102100
(3857)
Pixel Size X: 0.3624028914756309
Pixel Size Y: 0.3624028914756
Band Count: 1
Pixel Type: U8
RasterFunction Infos: {"rasterFunctionInfos": [{
"name": "None",
"description": "",
"help": ""
}]}
Mensuration Capabilities: Basic
Inspection Capabilities:
Has Histograms: true
Has Colormap: false
Has Multi Dimensions : false
Rendering Rule:
Min Scale: 0
Max Scale: 0
Copyright Text:
Service Data Type: esriImageServiceDataTypeGeneric
Min Values: 0
Max Values: 255
Mean Values: 121.01576673351
Standard Deviation Values: 55.881732749825
Object ID Field:
Fields:
None
Default Mosaic Method: Center
Allowed Mosaic Methods:
SortField:
SortValue: null
Mosaic Operator: First
Default Compression Quality: 75
Default Resampling Method: Bilinear
Max Record Count: null
Max Image Height: 4100
Max Image Width: 15000
Max Download Image Count: null
Max Mosaic Image Count: null
Allow Raster Function: true
Allow Copy: true
Allow Analysis: true
Allow Compute TiePoints: false
Supports Statistics: false
Supports Advanced Queries: false
Use StandardizedQueries: true
Raster Type Infos:
Name: Raster Dataset
Description: Supports all ArcGIS Raster Datasets
Help:
Has Raster Attribute Table: false
Edit Fields Info: null
Ownership Based AccessControl For Rasters: null
Child Resources:
Info
Histograms
Statistics
Key Properties
Legend
Raster Function Infos
Supported Operations:
Export Image
Identify
Measure
Compute Histograms
Compute Statistics Histograms
Get Samples
Compute Class Statistics
Query Boundary
Compute Pixel Location
Compute Angles
Validate
Project