View In:
ArcGIS JavaScript
ArcGIS Online Map Viewer
ArcGIS Earth
Service Description: COTTFN/1945_Middle_Area
Name: COTTFN/1945_Middle_Area
Description:
Single Fused Map Cache: false
Extent:
XMin: -9068250.54226621
YMin: 5278768.895703444
XMax: -9062349.012353636
YMax: 5286081.874853445
Spatial Reference: 102100
(3857)
Initial Extent:
XMin: -9068250.54226621
YMin: 5278768.895703444
XMax: -9062349.012353636
YMax: 5286081.874853445
Spatial Reference: 102100
(3857)
Full Extent:
XMin: -9068250.54226621
YMin: 5278768.895703444
XMax: -9062349.012353636
YMax: 5286081.874853445
Spatial Reference: 102100
(3857)
Pixel Size X: 1.229485398452962
Pixel Size Y: 1.2294853984534229
Band Count: 4
Pixel Type: U8
RasterFunction Infos: {"rasterFunctionInfos": [{
"name": "None",
"description": "",
"help": ""
}]}
Mensuration Capabilities: Basic
Inspection Capabilities:
Has Histograms: true
Has Colormap: false
Has Multi Dimensions : false
Rendering Rule:
Min Scale: 0
Max Scale: 0
Copyright Text:
Service Data Type: esriImageServiceDataTypeGeneric
Min Values: 0, 0, 0, 178
Max Values: 255, 255, 255, 255
Mean Values: 124.42058731224, 124.42058731224, 124.42058731224, 254.98395833331
Standard Deviation Values: 66.458039869923, 66.458039869923, 66.458039869923, 1.1112835108644
Object ID Field:
Fields:
None
Default Mosaic Method: Center
Allowed Mosaic Methods:
SortField:
SortValue: null
Mosaic Operator: First
Default Compression Quality: 75
Default Resampling Method: Bilinear
Max Record Count: null
Max Image Height: 4100
Max Image Width: 15000
Max Download Image Count: null
Max Mosaic Image Count: null
Allow Raster Function: true
Allow Copy: true
Allow Analysis: true
Allow Compute TiePoints: false
Supports Statistics: false
Supports Advanced Queries: false
Use StandardizedQueries: true
Raster Type Infos:
Name: Raster Dataset
Description: Supports all ArcGIS Raster Datasets
Help:
Has Raster Attribute Table: false
Edit Fields Info: null
Ownership Based AccessControl For Rasters: null
Child Resources:
Info
Histograms
Statistics
Key Properties
Legend
Raster Function Infos
Supported Operations:
Export Image
Identify
Measure
Compute Histograms
Compute Statistics Histograms
Get Samples
Compute Class Statistics
Query Boundary
Compute Pixel Location
Compute Angles
Validate
Project