{
 "currentVersion": 11.3,
 "serviceDescription": "COTTFN/1945_Middle_Area",
 "name": "COTTFN/1945_Middle_Area",
 "description": "",
 "extent": {
  "xmin": -9068250.54226621,
  "ymin": 5278768.895703444,
  "xmax": -9062349.012353636,
  "ymax": 5286081.874853445,
  "spatialReference": {
   "wkid": 102100,
   "latestWkid": 3857
  }
 },
 "initialExtent": {
  "xmin": -9068250.54226621,
  "ymin": 5278768.895703444,
  "xmax": -9062349.012353636,
  "ymax": 5286081.874853445,
  "spatialReference": {
   "wkid": 102100,
   "latestWkid": 3857
  }
 },
 "fullExtent": {
  "xmin": -9068250.54226621,
  "ymin": 5278768.895703444,
  "xmax": -9062349.012353636,
  "ymax": 5286081.874853445,
  "spatialReference": {
   "wkid": 102100,
   "latestWkid": 3857
  }
 },
 "sortableFields": "",
 "bandCount": 4,
 "pixelType": "U8",
 "minValues": [
  0,
  0,
  0,
  178
 ],
 "maxValues": [
  255,
  255,
  255,
  255
 ],
 "meanValues": [
  124.42058731224,
  124.42058731224,
  124.42058731224,
  254.98395833331
 ],
 "stdvValues": [
  66.458039869923,
  66.458039869923,
  66.458039869923,
  1.1112835108644
 ],
 "hasMultidimensions": false,
 "pixelSizeX": 1.229485398452962,
 "pixelSizeY": 1.2294853984534229,
 "meanPixelSize": 1.2294853984531924,
 "datasetFormat": "TIFF",
 "uncompressedSize": 114201600,
 "blockWidth": 4800,
 "blockHeight": 218,
 "compressionType": "LZW",
 "bandNames": [
  "Band_1",
  "Band_2",
  "Band_3",
  "Band_4"
 ],
 "allowCopy": true,
 "allowAnalysis": true,
 "itemAccess": false,
 "inspectionCapabilities": "",
 "minPixelSize": 0,
 "maxPixelSize": 0,
 "copyrightText": "",
 "serviceDataType": "esriImageServiceDataTypeGeneric",
 "serviceSourceType": "esriImageServiceSourceTypeDataset",
 "objectIdField": "",
 "fields": [],
 "capabilities": "Image,Metadata,Mensuration",
 "defaultMosaicMethod": "Center",
 "allowedMosaicMethods": "",
 "sortField": "",
 "sortValue": null,
 "sortAscending": true,
 "mosaicOperator": "First",
 "defaultCompressionQuality": 75,
 "defaultResamplingMethod": "Bilinear",
 "maxImageHeight": 4100,
 "maxImageWidth": 15000,
 "allowRasterFunction": true,
 "rasterFunctionInfos": [
  {
   "name": "None",
   "description": "",
   "help": ""
  }
 ],
 "rasterTypeInfos": [
  {
   "name": "Raster Dataset",
   "description": "Supports all ArcGIS Raster Datasets",
   "help": ""
  }
 ],
 "mensurationCapabilities": "Basic",
 "hasHistograms": true,
 "hasColormap": false,
 "hasRasterAttributeTable": false,
 "minScale": 0,
 "maxScale": 0,
 "exportTilesAllowed": false,
 "supportsStatistics": false,
 "supportsAdvancedQueries": false,
 "editFieldsInfo": null,
 "ownershipBasedAccessControlForRasters": null,
 "allowComputeTiePoints": false,
 "useStandardizedQueries": true,
 "advancedQueryCapabilities": {
  "useStandardizedQueries": true,
  "supportsStatistics": false,
  "supportsOrderBy": false,
  "supportsDistinct": false,
  "supportsPagination": false
 },
 "spatialReference": {
  "wkid": 102100,
  "latestWkid": 3857
 }
}
