View In:
ArcGIS JavaScript
ArcGIS Online Map Viewer
ArcGIS Earth
Service Description: COTTFN/1955_Middle_E_Area
Name: COTTFN/1955_Middle_E_Area
Description:
Single Fused Map Cache: false
Extent:
XMin: -9068148.620897057
YMin: 5278714.140743675
XMax: -9063415.140976822
YMax: 5283469.166287929
Spatial Reference: 102100
(3857)
Initial Extent:
XMin: -9068148.620897057
YMin: 5278714.140743675
XMax: -9063415.140976822
YMax: 5283469.166287929
Spatial Reference: 102100
(3857)
Full Extent:
XMin: -9068148.620897057
YMin: 5278714.140743675
XMax: -9063415.140976822
YMax: 5283469.166287929
Spatial Reference: 102100
(3857)
Pixel Size X: 0.46838313083658534
Pixel Size Y: 0.4683831308366932
Band Count: 4
Pixel Type: U8
RasterFunction Infos: {"rasterFunctionInfos": [{
"name": "None",
"description": "",
"help": ""
}]}
Mensuration Capabilities: Basic
Inspection Capabilities:
Has Histograms: true
Has Colormap: false
Has Multi Dimensions : false
Rendering Rule:
Min Scale: 0
Max Scale: 0
Copyright Text:
Service Data Type: esriImageServiceDataTypeGeneric
Min Values: 0, 0, 0, 53
Max Values: 255, 255, 255, 255
Mean Values: 127.06698223613, 129.73603989995, 123.99322539628, 254.98001187411
Standard Deviation Values: 50.202495335827, 50.080487207282, 50.41548870639, 2.0092789599931
Object ID Field:
Fields:
None
Default Mosaic Method: Center
Allowed Mosaic Methods:
SortField:
SortValue: null
Mosaic Operator: First
Default Compression Quality: 75
Default Resampling Method: Bilinear
Max Record Count: null
Max Image Height: 4100
Max Image Width: 15000
Max Download Image Count: null
Max Mosaic Image Count: null
Allow Raster Function: true
Allow Copy: true
Allow Analysis: true
Allow Compute TiePoints: false
Supports Statistics: false
Supports Advanced Queries: false
Use StandardizedQueries: true
Raster Type Infos:
Name: Raster Dataset
Description: Supports all ArcGIS Raster Datasets
Help:
Has Raster Attribute Table: false
Edit Fields Info: null
Ownership Based AccessControl For Rasters: null
Child Resources:
Info
Histograms
Statistics
Key Properties
Legend
Raster Function Infos
Supported Operations:
Export Image
Identify
Measure
Compute Histograms
Compute Statistics Histograms
Get Samples
Compute Class Statistics
Query Boundary
Compute Pixel Location
Compute Angles
Validate
Project