{
 "currentVersion": 11.3,
 "serviceDescription": "COTTFN/1955_Middle_E_Area",
 "name": "COTTFN/1955_Middle_E_Area",
 "description": "",
 "extent": {
  "xmin": -9068148.620897057,
  "ymin": 5278714.140743675,
  "xmax": -9063415.140976822,
  "ymax": 5283469.166287929,
  "spatialReference": {
   "wkid": 102100,
   "latestWkid": 3857
  }
 },
 "initialExtent": {
  "xmin": -9068148.620897057,
  "ymin": 5278714.140743675,
  "xmax": -9063415.140976822,
  "ymax": 5283469.166287929,
  "spatialReference": {
   "wkid": 102100,
   "latestWkid": 3857
  }
 },
 "fullExtent": {
  "xmin": -9068148.620897057,
  "ymin": 5278714.140743675,
  "xmax": -9063415.140976822,
  "ymax": 5283469.166287929,
  "spatialReference": {
   "wkid": 102100,
   "latestWkid": 3857
  }
 },
 "sortableFields": "",
 "bandCount": 4,
 "pixelType": "U8",
 "minValues": [
  0,
  0,
  0,
  53
 ],
 "maxValues": [
  255,
  255,
  255,
  255
 ],
 "meanValues": [
  127.06698223613,
  129.73603989995,
  123.99322539628,
  254.98001187411
 ],
 "stdvValues": [
  50.202495335827,
  50.080487207282,
  50.41548870639,
  2.0092789599931
 ],
 "hasMultidimensions": false,
 "pixelSizeX": 0.46838313083658534,
 "pixelSizeY": 0.4683831308366932,
 "meanPixelSize": 0.4683831308366393,
 "datasetFormat": "TIFF",
 "uncompressedSize": 410384448,
 "blockWidth": 10106,
 "blockHeight": 103,
 "compressionType": "LZW",
 "bandNames": [
  "Band_1",
  "Band_2",
  "Band_3",
  "Band_4"
 ],
 "allowCopy": true,
 "allowAnalysis": true,
 "itemAccess": false,
 "inspectionCapabilities": "",
 "minPixelSize": 0,
 "maxPixelSize": 0,
 "copyrightText": "",
 "serviceDataType": "esriImageServiceDataTypeGeneric",
 "serviceSourceType": "esriImageServiceSourceTypeDataset",
 "objectIdField": "",
 "fields": [],
 "capabilities": "Image,Metadata,Mensuration",
 "defaultMosaicMethod": "Center",
 "allowedMosaicMethods": "",
 "sortField": "",
 "sortValue": null,
 "sortAscending": true,
 "mosaicOperator": "First",
 "defaultCompressionQuality": 75,
 "defaultResamplingMethod": "Bilinear",
 "maxImageHeight": 4100,
 "maxImageWidth": 15000,
 "allowRasterFunction": true,
 "rasterFunctionInfos": [
  {
   "name": "None",
   "description": "",
   "help": ""
  }
 ],
 "rasterTypeInfos": [
  {
   "name": "Raster Dataset",
   "description": "Supports all ArcGIS Raster Datasets",
   "help": ""
  }
 ],
 "mensurationCapabilities": "Basic",
 "hasHistograms": true,
 "hasColormap": false,
 "hasRasterAttributeTable": false,
 "minScale": 0,
 "maxScale": 0,
 "exportTilesAllowed": false,
 "supportsStatistics": false,
 "supportsAdvancedQueries": false,
 "editFieldsInfo": null,
 "ownershipBasedAccessControlForRasters": null,
 "allowComputeTiePoints": false,
 "useStandardizedQueries": true,
 "advancedQueryCapabilities": {
  "useStandardizedQueries": true,
  "supportsStatistics": false,
  "supportsOrderBy": false,
  "supportsDistinct": false,
  "supportsPagination": false
 },
 "spatialReference": {
  "wkid": 102100,
  "latestWkid": 3857
 }
}
