View In:
ArcGIS JavaScript
ArcGIS Online Map Viewer
ArcGIS Earth
Service Description: COTTFN/1955_Middle_W_Area
Name: COTTFN/1955_Middle_W_Area
Description:
Single Fused Map Cache: false
Extent:
XMin: -9069935.000269014
YMin: 5278743.368637871
XMax: -9065247.505567815
YMax: 5283457.660624169
Spatial Reference: 102100
(3857)
Initial Extent:
XMin: -9069935.000269014
YMin: 5278743.368637871
XMax: -9065247.505567815
YMax: 5283457.660624169
Spatial Reference: 102100
(3857)
Full Extent:
XMin: -9069935.000269014
YMin: 5278743.368637871
XMax: -9065247.505567815
YMax: 5283457.660624169
Spatial Reference: 102100
(3857)
Pixel Size X: 0.4624143929366907
Pixel Size Y: 0.460065578832616
Band Count: 3
Pixel Type: U8
RasterFunction Infos: {"rasterFunctionInfos": [{
"name": "None",
"description": "",
"help": ""
}]}
Mensuration Capabilities: Basic
Inspection Capabilities:
Has Histograms: true
Has Colormap: false
Has Multi Dimensions : false
Rendering Rule:
Min Scale: 0
Max Scale: 0
Copyright Text:
Service Data Type: esriImageServiceDataTypeRGB
Min Values: 0, 0, 0
Max Values: 255, 255, 255
Mean Values: 126.26825359749, 129.10494028242, 124.13666302447
Standard Deviation Values: 49.186921252333, 48.87720983878, 49.690547822599
Object ID Field:
Fields:
None
Default Mosaic Method: Center
Allowed Mosaic Methods:
SortField:
SortValue: null
Mosaic Operator: First
Default Compression Quality: 75
Default Resampling Method: Bilinear
Max Record Count: null
Max Image Height: 4100
Max Image Width: 15000
Max Download Image Count: null
Max Mosaic Image Count: null
Allow Raster Function: true
Allow Copy: true
Allow Analysis: true
Allow Compute TiePoints: false
Supports Statistics: false
Supports Advanced Queries: false
Use StandardizedQueries: true
Raster Type Infos:
Name: Raster Dataset
Description: Supports all ArcGIS Raster Datasets
Help:
Has Raster Attribute Table: false
Edit Fields Info: null
Ownership Based AccessControl For Rasters: null
Child Resources:
Info
Histograms
Statistics
Key Properties
Legend
Raster Function Infos
Supported Operations:
Export Image
Identify
Measure
Compute Histograms
Compute Statistics Histograms
Get Samples
Compute Class Statistics
Query Boundary
Compute Pixel Location
Compute Angles
Validate
Project