View In:
ArcGIS JavaScript
ArcGIS Online Map Viewer
ArcGIS Earth
Service Description: COTTFN/1955_SW_Area
Name: COTTFN/1955_SW_Area
Description:
Single Fused Map Cache: false
Extent:
XMin: -9071710.529260747
YMin: 5274528.124678901
XMax: -9066041.723652082
YMax: 5280175.892990787
Spatial Reference: 102100
(3857)
Initial Extent:
XMin: -9071710.529260747
YMin: 5274528.124678901
XMax: -9066041.723652082
YMax: 5280175.892990787
Spatial Reference: 102100
(3857)
Full Extent:
XMin: -9071710.529260747
YMin: 5274528.124678901
XMax: -9066041.723652082
YMax: 5280175.892990787
Spatial Reference: 102100
(3857)
Pixel Size X: 0.4760102114926166
Pixel Size Y: 0.4724189303124371
Band Count: 3
Pixel Type: U8
RasterFunction Infos: {"rasterFunctionInfos": [{
"name": "None",
"description": "",
"help": ""
}]}
Mensuration Capabilities: Basic
Inspection Capabilities:
Has Histograms: true
Has Colormap: false
Has Multi Dimensions : false
Rendering Rule:
Min Scale: 0
Max Scale: 0
Copyright Text:
Service Data Type: esriImageServiceDataTypeRGB
Min Values: 0, 0, 0
Max Values: 255, 255, 253
Mean Values: 82.893576631019, 85.206040340964, 73.798877399374
Standard Deviation Values: 64.584934175151, 64.847039517719, 61.616831778741
Object ID Field:
Fields:
None
Default Mosaic Method: Center
Allowed Mosaic Methods:
SortField:
SortValue: null
Mosaic Operator: First
Default Compression Quality: 75
Default Resampling Method: Bilinear
Max Record Count: null
Max Image Height: 4100
Max Image Width: 15000
Max Download Image Count: null
Max Mosaic Image Count: null
Allow Raster Function: true
Allow Copy: true
Allow Analysis: true
Allow Compute TiePoints: false
Supports Statistics: false
Supports Advanced Queries: false
Use StandardizedQueries: true
Raster Type Infos:
Name: Raster Dataset
Description: Supports all ArcGIS Raster Datasets
Help:
Has Raster Attribute Table: false
Edit Fields Info: null
Ownership Based AccessControl For Rasters: null
Child Resources:
Info
Histograms
Statistics
Key Properties
Legend
Raster Function Infos
Supported Operations:
Export Image
Identify
Measure
Compute Histograms
Compute Statistics Histograms
Get Samples
Compute Class Statistics
Query Boundary
Compute Pixel Location
Compute Angles
Validate
Project