View In:
ArcGIS JavaScript
ArcGIS Online Map Viewer
ArcGIS Earth
Service Description: COTTFN/1972_Middle_E_Area
Name: COTTFN/1972_Middle_E_Area
Description:
Single Fused Map Cache: false
Extent:
XMin: -9066740.150909118
YMin: 5277976.446044777
XMax: -9061586.857457181
YMax: 5283169.033923421
Spatial Reference: 102100
(3857)
Initial Extent:
XMin: -9066740.150909118
YMin: 5277976.446044777
XMax: -9061586.857457181
YMax: 5283169.033923421
Spatial Reference: 102100
(3857)
Full Extent:
XMin: -9066740.150909118
YMin: 5277976.446044777
XMax: -9061586.857457181
YMax: 5283169.033923421
Spatial Reference: 102100
(3857)
Pixel Size X: 0.47684773313009304
Pixel Size Y: 0.48411223929185776
Band Count: 3
Pixel Type: U8
RasterFunction Infos: {"rasterFunctionInfos": [{
"name": "None",
"description": "",
"help": ""
}]}
Mensuration Capabilities: Basic
Inspection Capabilities:
Has Histograms: true
Has Colormap: false
Has Multi Dimensions : false
Rendering Rule:
Min Scale: 0
Max Scale: 0
Copyright Text:
Service Data Type: esriImageServiceDataTypeRGB
Min Values: 0, 0, 0
Max Values: 255, 255, 255
Mean Values: 147.38075112086, 146.61783263667, 138.96179608944
Standard Deviation Values: 35.633116195917, 35.089448976139, 35.472849702312
Object ID Field:
Fields:
None
Default Mosaic Method: Center
Allowed Mosaic Methods:
SortField:
SortValue: null
Mosaic Operator: First
Default Compression Quality: 75
Default Resampling Method: Bilinear
Max Record Count: null
Max Image Height: 4100
Max Image Width: 15000
Max Download Image Count: null
Max Mosaic Image Count: null
Allow Raster Function: true
Allow Copy: true
Allow Analysis: true
Allow Compute TiePoints: false
Supports Statistics: false
Supports Advanced Queries: false
Use StandardizedQueries: true
Raster Type Infos:
Name: Raster Dataset
Description: Supports all ArcGIS Raster Datasets
Help:
Has Raster Attribute Table: false
Edit Fields Info: null
Ownership Based AccessControl For Rasters: null
Child Resources:
Info
Histograms
Statistics
Key Properties
Legend
Raster Function Infos
Supported Operations:
Export Image
Identify
Measure
Compute Histograms
Compute Statistics Histograms
Get Samples
Compute Class Statistics
Query Boundary
Compute Pixel Location
Compute Angles
Validate
Project