{
 "currentVersion": 11.3,
 "serviceDescription": "COTTFN/1972_Middle_W_Area",
 "name": "COTTFN/1972_Middle_W_Area",
 "description": "",
 "extent": {
  "xmin": -9068697.14816256,
  "ymin": 5277962.542049251,
  "xmax": -9063585.109694103,
  "ymax": 5283235.844906541,
  "spatialReference": {
   "wkid": 102100,
   "latestWkid": 3857
  }
 },
 "initialExtent": {
  "xmin": -9068697.14816256,
  "ymin": 5277962.542049251,
  "xmax": -9063585.109694103,
  "ymax": 5283235.844906541,
  "spatialReference": {
   "wkid": 102100,
   "latestWkid": 3857
  }
 },
 "fullExtent": {
  "xmin": -9068697.14816256,
  "ymin": 5277962.542049251,
  "xmax": -9063585.109694103,
  "ymax": 5283235.844906541,
  "spatialReference": {
   "wkid": 102100,
   "latestWkid": 3857
  }
 },
 "sortableFields": "",
 "bandCount": 3,
 "pixelType": "U8",
 "minValues": [
  0,
  0,
  0
 ],
 "maxValues": [
  249,
  246,
  241
 ],
 "meanValues": [
  145.3486030298,
  145.28777512974,
  134.8722414456
 ],
 "stdvValues": [
  35.471948228548,
  35.304234426449,
  35.117956061778
 ],
 "hasMultidimensions": false,
 "pixelSizeX": 0.4774482552029288,
 "pixelSizeY": 0.4882235771956321,
 "meanPixelSize": 0.48283591619928046,
 "datasetFormat": "TIFF",
 "uncompressedSize": 346938921,
 "blockWidth": 10707,
 "blockHeight": 130,
 "compressionType": "LZW",
 "bandNames": [
  "Band_1",
  "Band_2",
  "Band_3"
 ],
 "allowCopy": true,
 "allowAnalysis": true,
 "itemAccess": false,
 "inspectionCapabilities": "",
 "minPixelSize": 0,
 "maxPixelSize": 0,
 "copyrightText": "",
 "serviceDataType": "esriImageServiceDataTypeRGB",
 "serviceSourceType": "esriImageServiceSourceTypeDataset",
 "objectIdField": "",
 "fields": [],
 "capabilities": "Image,Metadata,Mensuration",
 "defaultMosaicMethod": "Center",
 "allowedMosaicMethods": "",
 "sortField": "",
 "sortValue": null,
 "sortAscending": true,
 "mosaicOperator": "First",
 "defaultCompressionQuality": 75,
 "defaultResamplingMethod": "Bilinear",
 "maxImageHeight": 4100,
 "maxImageWidth": 15000,
 "allowRasterFunction": true,
 "rasterFunctionInfos": [
  {
   "name": "None",
   "description": "",
   "help": ""
  }
 ],
 "rasterTypeInfos": [
  {
   "name": "Raster Dataset",
   "description": "Supports all ArcGIS Raster Datasets",
   "help": ""
  }
 ],
 "mensurationCapabilities": "Basic",
 "hasHistograms": true,
 "hasColormap": false,
 "hasRasterAttributeTable": false,
 "minScale": 0,
 "maxScale": 0,
 "exportTilesAllowed": false,
 "supportsStatistics": false,
 "supportsAdvancedQueries": false,
 "editFieldsInfo": null,
 "ownershipBasedAccessControlForRasters": null,
 "allowComputeTiePoints": false,
 "useStandardizedQueries": true,
 "advancedQueryCapabilities": {
  "useStandardizedQueries": true,
  "supportsStatistics": false,
  "supportsOrderBy": false,
  "supportsDistinct": false,
  "supportsPagination": false
 },
 "spatialReference": {
  "wkid": 102100,
  "latestWkid": 3857
 }
}
