View In:
ArcGIS JavaScript
ArcGIS Online Map Viewer
ArcGIS Earth
Service Description: COTTFN/1978_Midde_N_Area
Name: COTTFN/1978_Midde_N_Area
Description:
Single Fused Map Cache: false
Extent:
XMin: -9067495.528245492
YMin: 5280573.899193795
XMax: -9063711.679462442
YMax: 5284326.826401218
Spatial Reference: 102100
(3857)
Initial Extent:
XMin: -9067495.528245492
YMin: 5280573.899193795
XMax: -9063711.679462442
YMax: 5284326.826401218
Spatial Reference: 102100
(3857)
Full Extent:
XMin: -9067495.528245492
YMin: 5280573.899193795
XMax: -9063711.679462442
YMax: 5284326.826401218
Spatial Reference: 102100
(3857)
Pixel Size X: 0.319123621746625
Pixel Size Y: 0.3192622039491657
Band Count: 3
Pixel Type: U8
RasterFunction Infos: {"rasterFunctionInfos": [{
"name": "None",
"description": "",
"help": ""
}]}
Mensuration Capabilities: Basic
Inspection Capabilities:
Has Histograms: true
Has Colormap: false
Has Multi Dimensions : false
Rendering Rule:
Min Scale: 0
Max Scale: 0
Copyright Text:
Service Data Type: esriImageServiceDataTypeRGB
Min Values: 0, 0, 0
Max Values: 255, 255, 255
Mean Values: 89.576338715473, 92.600206759925, 81.875997606123
Standard Deviation Values: 48.004210158185, 48.462569077688, 46.498278529737
Object ID Field:
Fields:
None
Default Mosaic Method: Center
Allowed Mosaic Methods:
SortField:
SortValue: null
Mosaic Operator: First
Default Compression Quality: 75
Default Resampling Method: Bilinear
Max Record Count: null
Max Image Height: 4100
Max Image Width: 15000
Max Download Image Count: null
Max Mosaic Image Count: null
Allow Raster Function: true
Allow Copy: true
Allow Analysis: true
Allow Compute TiePoints: false
Supports Statistics: false
Supports Advanced Queries: false
Use StandardizedQueries: true
Raster Type Infos:
Name: Raster Dataset
Description: Supports all ArcGIS Raster Datasets
Help:
Has Raster Attribute Table: false
Edit Fields Info: null
Ownership Based AccessControl For Rasters: null
Child Resources:
Info
Histograms
Statistics
Key Properties
Legend
Raster Function Infos
Supported Operations:
Export Image
Identify
Measure
Compute Histograms
Compute Statistics Histograms
Get Samples
Compute Class Statistics
Query Boundary
Compute Pixel Location
Compute Angles
Validate
Project