View In:
ArcGIS JavaScript
ArcGIS Online Map Viewer
ArcGIS Earth
Service Description: COTTFN/Chippewa_BaseballDiamond_tif
Name: COTTFN/Chippewa_BaseballDiamond_tif
Description:
Single Fused Map Cache: false
Extent:
XMin: -81.43960469189383
YMin: 42.809359603593705
XMax: -81.43662434480343
YMax: 42.81312846588666
Spatial Reference: 4326
(4326)
Initial Extent:
XMin: -81.43960469189383
YMin: 42.809359603593705
XMax: -81.43662434480343
YMax: 42.81312846588666
Spatial Reference: 4326
(4326)
Full Extent:
XMin: -81.43960469189383
YMin: 42.809359603593705
XMax: -81.43662434480343
YMax: 42.81312846588666
Spatial Reference: 4326
(4326)
Pixel Size X: 1.9928766903376527E-7
Pixel Size Y: 1.4672255588266125E-7
Band Count: 4
Pixel Type: U8
RasterFunction Infos: {"rasterFunctionInfos": [{
"name": "None",
"description": "",
"help": ""
}]}
Mensuration Capabilities: Basic
Inspection Capabilities:
Has Histograms: true
Has Colormap: false
Has Multi Dimensions : false
Rendering Rule:
Min Scale: 0
Max Scale: 0
Copyright Text:
Service Data Type: esriImageServiceDataTypeGeneric
Min Values: 1, 1, 1, 1
Max Values: 255, 255, 255, 255
Mean Values: 112.2504089285, 104.2101405843, 93.180052411796, 254.95202184682
Standard Deviation Values: 47.052719605553, 46.765057778356, 44.279039969846, 3.0091454962878
Object ID Field:
Fields:
None
Default Mosaic Method: Center
Allowed Mosaic Methods:
SortField:
SortValue: null
Mosaic Operator: First
Default Compression Quality: 75
Default Resampling Method: Bilinear
Max Record Count: null
Max Image Height: 4100
Max Image Width: 15000
Max Download Image Count: null
Max Mosaic Image Count: null
Allow Raster Function: true
Allow Copy: true
Allow Analysis: true
Allow Compute TiePoints: false
Supports Statistics: false
Supports Advanced Queries: false
Use StandardizedQueries: true
Raster Type Infos:
Name: Raster Dataset
Description: Supports all ArcGIS Raster Datasets
Help:
Has Raster Attribute Table: false
Edit Fields Info: null
Ownership Based AccessControl For Rasters: null
Child Resources:
Info
Histograms
Statistics
Key Properties
Legend
Raster Function Infos
Supported Operations:
Export Image
Identify
Measure
Compute Histograms
Compute Statistics Histograms
Get Samples
Compute Class Statistics
Query Boundary
Compute Pixel Location
Compute Angles
Validate
Project