View In:
ArcGIS JavaScript
ArcGIS Online Map Viewer
ArcGIS Earth
Service Description: COTTFN/Chippewa_Cemetery_tif
Name: COTTFN/Chippewa_Cemetery_tif
Description:
Single Fused Map Cache: false
Extent:
XMin: -81.43744921449861
YMin: 42.77775783082824
XMax: -81.43462269221659
YMax: 42.78038491740073
Spatial Reference: 4326
(4326)
Initial Extent:
XMin: -81.43744921449861
YMin: 42.77775783082824
XMax: -81.43462269221659
YMax: 42.78038491740073
Spatial Reference: 4326
(4326)
Full Extent:
XMin: -81.43744921449861
YMin: 42.77775783082824
XMax: -81.43462269221659
YMax: 42.78038491740073
Spatial Reference: 4326
(4326)
Pixel Size X: 1.6985291040327866E-7
Pixel Size Y: 1.2512319358393142E-7
Band Count: 4
Pixel Type: U8
RasterFunction Infos: {"rasterFunctionInfos": [{
"name": "None",
"description": "",
"help": ""
}]}
Mensuration Capabilities: Basic
Inspection Capabilities:
Has Histograms: true
Has Colormap: false
Has Multi Dimensions : false
Rendering Rule:
Min Scale: 0
Max Scale: 0
Copyright Text:
Service Data Type: esriImageServiceDataTypeGeneric
Min Values: 1, 1, 1, 2
Max Values: 255, 255, 255, 255
Mean Values: 124.50025807017, 120.38804800629, 108.05364655509, 254.95546641133
Standard Deviation Values: 34.016734855537, 33.665136054151, 33.991627120583, 2.7454119829185
Object ID Field:
Fields:
None
Default Mosaic Method: Center
Allowed Mosaic Methods:
SortField:
SortValue: null
Mosaic Operator: First
Default Compression Quality: 75
Default Resampling Method: Bilinear
Max Record Count: null
Max Image Height: 4100
Max Image Width: 15000
Max Download Image Count: null
Max Mosaic Image Count: null
Allow Raster Function: true
Allow Copy: true
Allow Analysis: true
Allow Compute TiePoints: false
Supports Statistics: false
Supports Advanced Queries: false
Use StandardizedQueries: true
Raster Type Infos:
Name: Raster Dataset
Description: Supports all ArcGIS Raster Datasets
Help:
Has Raster Attribute Table: false
Edit Fields Info: null
Ownership Based AccessControl For Rasters: null
Child Resources:
Info
Histograms
Statistics
Key Properties
Legend
Raster Function Infos
Supported Operations:
Export Image
Identify
Measure
Compute Histograms
Compute Statistics Histograms
Get Samples
Compute Class Statistics
Query Boundary
Compute Pixel Location
Compute Angles
Validate
Project