View In:
ArcGIS JavaScript
ArcGIS Online Map Viewer
ArcGIS Earth
Service Description: COTTFN/Chippewa_DaycareParkingLot_tif
Name: COTTFN/Chippewa_DaycareParkingLot_tif
Description:
Single Fused Map Cache: false
Extent:
XMin: 461359.942687787
YMin: 4740596.265944789
XMax: 461571.153487787
YMax: 4740809.752244789
Spatial Reference: 32617
(32617)
Initial Extent:
XMin: 461359.942687787
YMin: 4740596.265944789
XMax: 461571.153487787
YMax: 4740809.752244789
Spatial Reference: 32617
(32617)
Full Extent:
XMin: 461359.942687787
YMin: 4740596.265944789
XMax: 461571.153487787
YMax: 4740809.752244789
Spatial Reference: 32617
(32617)
Pixel Size X: 0.011100000000000039
Pixel Size Y: 0.011099999999999458
Band Count: 4
Pixel Type: U8
RasterFunction Infos: {"rasterFunctionInfos": [{
"name": "None",
"description": "",
"help": ""
}]}
Mensuration Capabilities: Basic
Inspection Capabilities:
Has Histograms: true
Has Colormap: false
Has Multi Dimensions : false
Rendering Rule:
Min Scale: 0
Max Scale: 0
Copyright Text:
Service Data Type: esriImageServiceDataTypeGeneric
Min Values: 1, 1, 1, 1
Max Values: 255, 255, 255, 255
Mean Values: 111.26157145254, 106.80577126286, 95.537795882728, 254.93732372092
Standard Deviation Values: 33.432575901858, 33.031494387991, 34.243389412197, 3.3309219560515
Object ID Field:
Fields:
None
Default Mosaic Method: Center
Allowed Mosaic Methods:
SortField:
SortValue: null
Mosaic Operator: First
Default Compression Quality: 75
Default Resampling Method: Bilinear
Max Record Count: null
Max Image Height: 4100
Max Image Width: 15000
Max Download Image Count: null
Max Mosaic Image Count: null
Allow Raster Function: true
Allow Copy: true
Allow Analysis: true
Allow Compute TiePoints: false
Supports Statistics: false
Supports Advanced Queries: false
Use StandardizedQueries: true
Raster Type Infos:
Name: Raster Dataset
Description: Supports all ArcGIS Raster Datasets
Help:
Has Raster Attribute Table: false
Edit Fields Info: null
Ownership Based AccessControl For Rasters: null
Child Resources:
Info
Histograms
Statistics
Key Properties
Legend
Raster Function Infos
Supported Operations:
Export Image
Identify
Measure
Compute Histograms
Compute Statistics Histograms
Get Samples
Compute Class Statistics
Query Boundary
Compute Pixel Location
Compute Angles
Validate
Project