{
 "currentVersion": 11.3,
 "serviceDescription": "COTTFN/Chippewa_DaycareParkingLot_tif",
 "name": "COTTFN/Chippewa_DaycareParkingLot_tif",
 "description": "",
 "extent": {
  "xmin": 461359.942687787,
  "ymin": 4740596.265944789,
  "xmax": 461571.153487787,
  "ymax": 4740809.752244789,
  "spatialReference": {
   "wkid": 32617,
   "latestWkid": 32617
  }
 },
 "initialExtent": {
  "xmin": 461359.942687787,
  "ymin": 4740596.265944789,
  "xmax": 461571.153487787,
  "ymax": 4740809.752244789,
  "spatialReference": {
   "wkid": 32617,
   "latestWkid": 32617
  }
 },
 "fullExtent": {
  "xmin": 461359.942687787,
  "ymin": 4740596.265944789,
  "xmax": 461571.153487787,
  "ymax": 4740809.752244789,
  "spatialReference": {
   "wkid": 32617,
   "latestWkid": 32617
  }
 },
 "sortableFields": "",
 "bandCount": 4,
 "pixelType": "U8",
 "minValues": [
  1,
  1,
  1,
  1
 ],
 "maxValues": [
  255,
  255,
  255,
  255
 ],
 "meanValues": [
  111.26157145254,
  106.80577126286,
  95.537795882728,
  254.93732372092
 ],
 "stdvValues": [
  33.432575901858,
  33.031494387991,
  34.243389412197,
  3.3309219560515
 ],
 "hasMultidimensions": false,
 "pixelSizeX": 0.011100000000000039,
 "pixelSizeY": 0.011099999999999458,
 "meanPixelSize": 0.011099999999999749,
 "datasetFormat": "TIFF",
 "uncompressedSize": 1463862096,
 "blockWidth": 256,
 "blockHeight": 256,
 "compressionType": "DEFLATE",
 "bandNames": [
  "Band_1",
  "Band_2",
  "Band_3",
  "Band_4"
 ],
 "allowCopy": true,
 "allowAnalysis": true,
 "itemAccess": false,
 "inspectionCapabilities": "",
 "noDataValue": 0,
 "noDataValues": [
  0,
  0,
  0,
  0
 ],
 "minPixelSize": 0,
 "maxPixelSize": 0,
 "copyrightText": "",
 "serviceDataType": "esriImageServiceDataTypeGeneric",
 "serviceSourceType": "esriImageServiceSourceTypeDataset",
 "objectIdField": "",
 "fields": [],
 "capabilities": "Image,Metadata,Mensuration",
 "defaultMosaicMethod": "Center",
 "allowedMosaicMethods": "",
 "sortField": "",
 "sortValue": null,
 "sortAscending": true,
 "mosaicOperator": "First",
 "defaultCompressionQuality": 75,
 "defaultResamplingMethod": "Bilinear",
 "maxImageHeight": 4100,
 "maxImageWidth": 15000,
 "allowRasterFunction": true,
 "rasterFunctionInfos": [
  {
   "name": "None",
   "description": "",
   "help": ""
  }
 ],
 "rasterTypeInfos": [
  {
   "name": "Raster Dataset",
   "description": "Supports all ArcGIS Raster Datasets",
   "help": ""
  }
 ],
 "mensurationCapabilities": "Basic",
 "hasHistograms": true,
 "hasColormap": false,
 "hasRasterAttributeTable": false,
 "minScale": 0,
 "maxScale": 0,
 "exportTilesAllowed": false,
 "supportsStatistics": false,
 "supportsAdvancedQueries": false,
 "editFieldsInfo": null,
 "ownershipBasedAccessControlForRasters": null,
 "allowComputeTiePoints": false,
 "useStandardizedQueries": true,
 "advancedQueryCapabilities": {
  "useStandardizedQueries": true,
  "supportsStatistics": false,
  "supportsOrderBy": false,
  "supportsDistinct": false,
  "supportsPagination": false
 },
 "spatialReference": {
  "wkid": 32617,
  "latestWkid": 32617
 }
}
