View In:
ArcGIS JavaScript
ArcGIS Online Map Viewer
ArcGIS Earth
Service Description: COTTFN/Colbourne_Cemetery_422_Index_NDVI
Name: COTTFN/Colbourne_Cemetery_422_Index_NDVI
Description:
Single Fused Map Cache: false
Extent:
XMin: 464223.665440292
YMin: 4736250.755985126
XMax: 464429.0360461162
YMax: 4736477.055412224
Spatial Reference: 32617
(32617)
Initial Extent:
XMin: 464223.665440292
YMin: 4736250.755985126
XMax: 464429.0360461162
YMax: 4736477.055412224
Spatial Reference: 32617
(32617)
Full Extent:
XMin: 464223.665440292
YMin: 4736250.755985126
XMax: 464429.0360461162
YMax: 4736477.055412224
Spatial Reference: 32617
(32617)
Pixel Size X: 0.026842322026431078
Pixel Size Y: 0.02683498483311553
Band Count: 1
Pixel Type: F32
RasterFunction Infos: {"rasterFunctionInfos": [{
"name": "None",
"description": "",
"help": ""
}]}
Mensuration Capabilities: Basic
Inspection Capabilities:
Has Histograms: true
Has Colormap: false
Has Multi Dimensions : false
Rendering Rule:
Min Scale: 0
Max Scale: 0
Copyright Text:
Service Data Type: esriImageServiceDataTypeGeneric
Min Values: -0.39396211504936
Max Values: 0.93942630290985
Mean Values: 0.50194753356522
Standard Deviation Values: 0.2420634778832
Object ID Field:
Fields:
None
Default Mosaic Method: Center
Allowed Mosaic Methods:
SortField:
SortValue: null
Mosaic Operator: First
Default Compression Quality: 75
Default Resampling Method: Bilinear
Max Record Count: null
Max Image Height: 4100
Max Image Width: 15000
Max Download Image Count: null
Max Mosaic Image Count: null
Allow Raster Function: true
Allow Copy: true
Allow Analysis: true
Allow Compute TiePoints: false
Supports Statistics: false
Supports Advanced Queries: false
Use StandardizedQueries: true
Raster Type Infos:
Name: Raster Dataset
Description: Supports all ArcGIS Raster Datasets
Help:
Has Raster Attribute Table: false
Edit Fields Info: null
Ownership Based AccessControl For Rasters: null
Child Resources:
Info
Histograms
Statistics
Key Properties
Legend
Raster Function Infos
Supported Operations:
Export Image
Identify
Measure
Compute Histograms
Compute Statistics Histograms
Get Samples
Compute Class Statistics
Query Boundary
Compute Pixel Location
Compute Angles
Validate
Project