{
 "currentVersion": 11.3,
 "serviceDescription": "COTTFN/Colbourne_Cemetery_422_Index_NDVI",
 "name": "COTTFN/Colbourne_Cemetery_422_Index_NDVI",
 "description": "",
 "extent": {
  "xmin": 464223.665440292,
  "ymin": 4736250.755985126,
  "xmax": 464429.0360461162,
  "ymax": 4736477.055412224,
  "spatialReference": {
   "wkid": 32617,
   "latestWkid": 32617
  }
 },
 "initialExtent": {
  "xmin": 464223.665440292,
  "ymin": 4736250.755985126,
  "xmax": 464429.0360461162,
  "ymax": 4736477.055412224,
  "spatialReference": {
   "wkid": 32617,
   "latestWkid": 32617
  }
 },
 "fullExtent": {
  "xmin": 464223.665440292,
  "ymin": 4736250.755985126,
  "xmax": 464429.0360461162,
  "ymax": 4736477.055412224,
  "spatialReference": {
   "wkid": 32617,
   "latestWkid": 32617
  }
 },
 "sortableFields": "",
 "bandCount": 1,
 "pixelType": "F32",
 "minValues": [
  -0.39396211504936
 ],
 "maxValues": [
  0.93942630290985
 ],
 "meanValues": [
  0.50194753356522
 ],
 "stdvValues": [
  0.2420634778832
 ],
 "hasMultidimensions": false,
 "pixelSizeX": 0.026842322026431078,
 "pixelSizeY": 0.02683498483311553,
 "meanPixelSize": 0.026838653429773304,
 "datasetFormat": "TIFF",
 "uncompressedSize": 258083532,
 "blockWidth": 7651,
 "blockHeight": 1,
 "compressionType": "LZW",
 "bandNames": [
  "Band_1"
 ],
 "allowCopy": true,
 "allowAnalysis": true,
 "itemAccess": false,
 "inspectionCapabilities": "",
 "noDataValue": -10000,
 "noDataValues": [
  -10000
 ],
 "minPixelSize": 0,
 "maxPixelSize": 0,
 "copyrightText": "",
 "serviceDataType": "esriImageServiceDataTypeGeneric",
 "serviceSourceType": "esriImageServiceSourceTypeDataset",
 "objectIdField": "",
 "fields": [],
 "capabilities": "Image,Metadata,Mensuration",
 "defaultMosaicMethod": "Center",
 "allowedMosaicMethods": "",
 "sortField": "",
 "sortValue": null,
 "sortAscending": true,
 "mosaicOperator": "First",
 "defaultCompressionQuality": 75,
 "defaultResamplingMethod": "Bilinear",
 "maxImageHeight": 4100,
 "maxImageWidth": 15000,
 "allowRasterFunction": true,
 "rasterFunctionInfos": [
  {
   "name": "None",
   "description": "",
   "help": ""
  }
 ],
 "rasterTypeInfos": [
  {
   "name": "Raster Dataset",
   "description": "Supports all ArcGIS Raster Datasets",
   "help": ""
  }
 ],
 "mensurationCapabilities": "Basic",
 "hasHistograms": true,
 "hasColormap": false,
 "hasRasterAttributeTable": false,
 "minScale": 0,
 "maxScale": 0,
 "exportTilesAllowed": false,
 "supportsStatistics": false,
 "supportsAdvancedQueries": false,
 "editFieldsInfo": null,
 "ownershipBasedAccessControlForRasters": null,
 "allowComputeTiePoints": false,
 "useStandardizedQueries": true,
 "advancedQueryCapabilities": {
  "useStandardizedQueries": true,
  "supportsStatistics": false,
  "supportsOrderBy": false,
  "supportsDistinct": false,
  "supportsPagination": false
 },
 "spatialReference": {
  "wkid": 32617,
  "latestWkid": 32617
 }
}
