View In:
ArcGIS JavaScript
ArcGIS Online Map Viewer
ArcGIS Earth
Service Description: COTTFN/Colbourne_Cemetery_Multi_Spectral_Coloured
Name: COTTFN/Colbourne_Cemetery_Multi_Spectral_Coloured
Description:
Single Fused Map Cache: false
Extent:
XMin: 464241.3418441321
YMin: 4736304.876357264
XMax: 464417.3257399719
YMax: 4736447.669311443
Spatial Reference: 32617
(32617)
Initial Extent:
XMin: 464241.3418441321
YMin: 4736304.876357264
XMax: 464417.3257399719
YMax: 4736447.669311443
Spatial Reference: 32617
(32617)
Full Extent:
XMin: 464241.3418441321
YMin: 4736304.876357264
XMax: 464417.3257399719
YMax: 4736447.669311443
Spatial Reference: 32617
(32617)
Pixel Size X: 0.02683090346695747
Pixel Size Y: 0.026845827068896093
Band Count: 4
Pixel Type: U8
RasterFunction Infos: {"rasterFunctionInfos": [{
"name": "None",
"description": "",
"help": ""
}]}
Mensuration Capabilities: Basic
Inspection Capabilities:
Has Histograms: true
Has Colormap: false
Has Multi Dimensions : false
Rendering Rule:
Min Scale: 0
Max Scale: 0
Copyright Text:
Service Data Type: esriImageServiceDataTypeGeneric
Min Values: 0, 0, 0, 0
Max Values: 255, 247, 186, 255
Mean Values: 105.55461260554, 128.37631250048, 108.64601334681, 167.46953914862
Standard Deviation Values: 89.82619912641, 99.331636430842, 82.197198880433, 121.07306207583
Object ID Field:
Fields:
None
Default Mosaic Method: Center
Allowed Mosaic Methods:
SortField:
SortValue: null
Mosaic Operator: First
Default Compression Quality: 75
Default Resampling Method: Bilinear
Max Record Count: null
Max Image Height: 4100
Max Image Width: 15000
Max Download Image Count: null
Max Mosaic Image Count: null
Allow Raster Function: true
Allow Copy: true
Allow Analysis: true
Allow Compute TiePoints: false
Supports Statistics: false
Supports Advanced Queries: false
Use StandardizedQueries: true
Raster Type Infos:
Name: Raster Dataset
Description: Supports all ArcGIS Raster Datasets
Help:
Has Raster Attribute Table: false
Edit Fields Info: null
Ownership Based AccessControl For Rasters: null
Child Resources:
Info
Histograms
Statistics
Key Properties
Legend
Raster Function Infos
Supported Operations:
Export Image
Identify
Measure
Compute Histograms
Compute Statistics Histograms
Get Samples
Compute Class Statistics
Query Boundary
Compute Pixel Location
Compute Angles
Validate
Project