{
 "currentVersion": 11.3,
 "serviceDescription": "COTTFN/Colbourne_Cemetery_Multi_Spectral_Coloured",
 "name": "COTTFN/Colbourne_Cemetery_Multi_Spectral_Coloured",
 "description": "",
 "extent": {
  "xmin": 464241.3418441321,
  "ymin": 4736304.876357264,
  "xmax": 464417.3257399719,
  "ymax": 4736447.669311443,
  "spatialReference": {
   "wkid": 32617,
   "latestWkid": 32617
  }
 },
 "initialExtent": {
  "xmin": 464241.3418441321,
  "ymin": 4736304.876357264,
  "xmax": 464417.3257399719,
  "ymax": 4736447.669311443,
  "spatialReference": {
   "wkid": 32617,
   "latestWkid": 32617
  }
 },
 "fullExtent": {
  "xmin": 464241.3418441321,
  "ymin": 4736304.876357264,
  "xmax": 464417.3257399719,
  "ymax": 4736447.669311443,
  "spatialReference": {
   "wkid": 32617,
   "latestWkid": 32617
  }
 },
 "sortableFields": "",
 "bandCount": 4,
 "pixelType": "U8",
 "minValues": [
  0,
  0,
  0,
  0
 ],
 "maxValues": [
  255,
  247,
  186,
  255
 ],
 "meanValues": [
  105.55461260554,
  128.37631250048,
  108.64601334681,
  167.46953914862
 ],
 "stdvValues": [
  89.82619912641,
  99.331636430842,
  82.197198880433,
  121.07306207583
 ],
 "hasMultidimensions": false,
 "pixelSizeX": 0.02683090346695747,
 "pixelSizeY": 0.026845827068896093,
 "meanPixelSize": 0.02683836526792678,
 "datasetFormat": "TIFF",
 "uncompressedSize": 139549284,
 "blockWidth": 6559,
 "blockHeight": 1,
 "compressionType": "None",
 "bandNames": [
  "Band_1",
  "Band_2",
  "Band_3",
  "Band_4"
 ],
 "allowCopy": true,
 "allowAnalysis": true,
 "itemAccess": false,
 "inspectionCapabilities": "",
 "minPixelSize": 0,
 "maxPixelSize": 0,
 "copyrightText": "",
 "serviceDataType": "esriImageServiceDataTypeGeneric",
 "serviceSourceType": "esriImageServiceSourceTypeDataset",
 "objectIdField": "",
 "fields": [],
 "capabilities": "Image,Metadata,Mensuration",
 "defaultMosaicMethod": "Center",
 "allowedMosaicMethods": "",
 "sortField": "",
 "sortValue": null,
 "sortAscending": true,
 "mosaicOperator": "First",
 "defaultCompressionQuality": 75,
 "defaultResamplingMethod": "Bilinear",
 "maxImageHeight": 4100,
 "maxImageWidth": 15000,
 "allowRasterFunction": true,
 "rasterFunctionInfos": [
  {
   "name": "None",
   "description": "",
   "help": ""
  }
 ],
 "rasterTypeInfos": [
  {
   "name": "Raster Dataset",
   "description": "Supports all ArcGIS Raster Datasets",
   "help": ""
  }
 ],
 "mensurationCapabilities": "Basic",
 "hasHistograms": true,
 "hasColormap": false,
 "hasRasterAttributeTable": false,
 "minScale": 0,
 "maxScale": 0,
 "exportTilesAllowed": false,
 "supportsStatistics": false,
 "supportsAdvancedQueries": false,
 "editFieldsInfo": null,
 "ownershipBasedAccessControlForRasters": null,
 "allowComputeTiePoints": false,
 "useStandardizedQueries": true,
 "advancedQueryCapabilities": {
  "useStandardizedQueries": true,
  "supportsStatistics": false,
  "supportsOrderBy": false,
  "supportsDistinct": false,
  "supportsPagination": false
 },
 "spatialReference": {
  "wkid": 32617,
  "latestWkid": 32617
 }
}
