View In:
ArcGIS JavaScript
ArcGIS Online Map Viewer
ArcGIS Earth
Service Description: COTTFN/MultispectralMeanTextureAnalysis
Name: COTTFN/MultispectralMeanTextureAnalysis
Description:
Single Fused Map Cache: false
Extent:
XMin: 464225.80869000003
YMin: 4736249.712870001
XMax: 464429.80752000003
YMax: 4736474.700990001
Spatial Reference: 32617
(32617)
Initial Extent:
XMin: 464225.80869000003
YMin: 4736249.712870001
XMax: 464429.80752000003
YMax: 4736474.700990001
Spatial Reference: 32617
(32617)
Full Extent:
XMin: 464225.80869000003
YMin: 4736249.712870001
XMax: 464429.80752000003
YMax: 4736474.700990001
Spatial Reference: 32617
(32617)
Pixel Size X: 0.026669999999999583
Pixel Size Y: 0.026669999999985552
Band Count: 1
Pixel Type: F32
RasterFunction Infos: {"rasterFunctionInfos": [{
"name": "None",
"description": "",
"help": ""
}]}
Mensuration Capabilities: Basic
Inspection Capabilities:
Has Histograms: true
Has Colormap: false
Has Multi Dimensions : false
Rendering Rule:
Min Scale: 0
Max Scale: 0
Copyright Text:
Service Data Type: esriImageServiceDataTypeGeneric
Min Values: -32768
Max Values: 254.87008666992
Mean Values: -9925.7087113262
Standard Deviation Values: 15124.651321119
Object ID Field:
Fields:
None
Default Mosaic Method: Center
Allowed Mosaic Methods:
SortField:
SortValue: null
Mosaic Operator: First
Default Compression Quality: 75
Default Resampling Method: Bilinear
Max Record Count: null
Max Image Height: 4100
Max Image Width: 15000
Max Download Image Count: null
Max Mosaic Image Count: null
Allow Raster Function: true
Allow Copy: true
Allow Analysis: true
Allow Compute TiePoints: false
Supports Statistics: false
Supports Advanced Queries: false
Use StandardizedQueries: true
Raster Type Infos:
Name: Raster Dataset
Description: Supports all ArcGIS Raster Datasets
Help:
Has Raster Attribute Table: false
Edit Fields Info: null
Ownership Based AccessControl For Rasters: null
Child Resources:
Info
Histograms
Statistics
Key Properties
Legend
Raster Function Infos
Supported Operations:
Export Image
Identify
Measure
Compute Histograms
Compute Statistics Histograms
Get Samples
Compute Class Statistics
Query Boundary
Compute Pixel Location
Compute Angles
Validate
Project