{
 "currentVersion": 11.3,
 "serviceDescription": "COTTFN/MultispectralPCA",
 "name": "COTTFN/MultispectralPCA",
 "description": "",
 "extent": {
  "xmin": 464225.80869000003,
  "ymin": 4736249.712870001,
  "xmax": 464429.80752000003,
  "ymax": 4736474.700990001,
  "spatialReference": {
   "wkid": 32617,
   "latestWkid": 32617
  }
 },
 "initialExtent": {
  "xmin": 464225.80869000003,
  "ymin": 4736249.712870001,
  "xmax": 464429.80752000003,
  "ymax": 4736474.700990001,
  "spatialReference": {
   "wkid": 32617,
   "latestWkid": 32617
  }
 },
 "fullExtent": {
  "xmin": 464225.80869000003,
  "ymin": 4736249.712870001,
  "xmax": 464429.80752000003,
  "ymax": 4736474.700990001,
  "spatialReference": {
   "wkid": 32617,
   "latestWkid": 32617
  }
 },
 "sortableFields": "",
 "bandCount": 1,
 "pixelType": "F32",
 "minValues": [
  0
 ],
 "maxValues": [
  251.18748474121
 ],
 "meanValues": [
  39.034075982367
 ],
 "stdvValues": [
  70.887238897021
 ],
 "hasMultidimensions": false,
 "pixelSizeX": 0.026669999999999583,
 "pixelSizeY": 0.026669999999985552,
 "meanPixelSize": 0.026669999999992568,
 "datasetFormat": "TIFF",
 "uncompressedSize": 258107856,
 "blockWidth": 7649,
 "blockHeight": 1,
 "compressionType": "None",
 "bandNames": [
  "New Layer"
 ],
 "allowCopy": true,
 "allowAnalysis": true,
 "itemAccess": false,
 "inspectionCapabilities": "",
 "minPixelSize": 0,
 "maxPixelSize": 0,
 "copyrightText": "",
 "serviceDataType": "esriImageServiceDataTypeGeneric",
 "serviceSourceType": "esriImageServiceSourceTypeDataset",
 "objectIdField": "",
 "fields": [],
 "capabilities": "Image,Metadata,Mensuration",
 "defaultMosaicMethod": "Center",
 "allowedMosaicMethods": "",
 "sortField": "",
 "sortValue": null,
 "sortAscending": true,
 "mosaicOperator": "First",
 "defaultCompressionQuality": 75,
 "defaultResamplingMethod": "Bilinear",
 "maxImageHeight": 4100,
 "maxImageWidth": 15000,
 "allowRasterFunction": true,
 "rasterFunctionInfos": [
  {
   "name": "None",
   "description": "",
   "help": ""
  }
 ],
 "rasterTypeInfos": [
  {
   "name": "Raster Dataset",
   "description": "Supports all ArcGIS Raster Datasets",
   "help": ""
  }
 ],
 "mensurationCapabilities": "Basic",
 "hasHistograms": true,
 "hasColormap": false,
 "hasRasterAttributeTable": false,
 "minScale": 0,
 "maxScale": 0,
 "exportTilesAllowed": false,
 "supportsStatistics": false,
 "supportsAdvancedQueries": false,
 "editFieldsInfo": null,
 "ownershipBasedAccessControlForRasters": null,
 "allowComputeTiePoints": false,
 "useStandardizedQueries": true,
 "advancedQueryCapabilities": {
  "useStandardizedQueries": true,
  "supportsStatistics": false,
  "supportsOrderBy": false,
  "supportsDistinct": false,
  "supportsPagination": false
 },
 "spatialReference": {
  "wkid": 32617,
  "latestWkid": 32617
 }
}
