View In:
ArcGIS JavaScript
ArcGIS Online Map Viewer
ArcGIS Earth
Service Description: MedwayCreek/LondonDTM
Name: MedwayCreek/LondonDTM
Description:
Single Fused Map Cache: false
Extent:
XMin: -9058832.3055421
YMin: 5298891.514380639
XMax: -9030619.9083148
YMax: 5320785.910906967
Spatial Reference: 102100
(3857)
Initial Extent:
XMin: -9058832.3055421
YMin: 5298891.514380639
XMax: -9030619.9083148
YMax: 5320785.910906967
Spatial Reference: 102100
(3857)
Full Extent:
XMin: -9058832.3055421
YMin: 5298891.514380639
XMax: -9030619.9083148
YMax: 5320785.910906967
Spatial Reference: 102100
(3857)
Pixel Size X: 6.930090205674363
Pixel Size Y: 6.722258681709351
Band Count: 1
Pixel Type: S16
RasterFunction Infos: {"rasterFunctionInfos": [{
"name": "None",
"description": "",
"help": ""
}]}
Mensuration Capabilities: Basic
Inspection Capabilities:
Has Histograms: true
Has Colormap: false
Has Multi Dimensions : false
Rendering Rule:
Min Scale: 0
Max Scale: 0
Copyright Text:
Service Data Type: esriImageServiceDataTypeThematic
Min Values: 221
Max Values: 311
Mean Values: 262.98315891025
Standard Deviation Values: 12.699578807463
Object ID Field:
Fields:
None
Default Mosaic Method: Center
Allowed Mosaic Methods:
SortField:
SortValue: null
Mosaic Operator: First
Default Compression Quality: 75
Default Resampling Method: Bilinear
Max Record Count: null
Max Image Height: 4100
Max Image Width: 15000
Max Download Image Count: null
Max Mosaic Image Count: null
Allow Raster Function: true
Allow Copy: true
Allow Analysis: true
Allow Compute TiePoints: false
Supports Statistics: false
Supports Advanced Queries: false
Use StandardizedQueries: true
Raster Type Infos:
Name: Raster Dataset
Description: Supports all ArcGIS Raster Datasets
Help:
Has Raster Attribute Table: true
Edit Fields Info: null
Ownership Based AccessControl For Rasters: null
Child Resources:
Info
Raster Attribute Table
Histograms
Statistics
Key Properties
Legend
Raster Function Infos
Supported Operations:
Export Image
Identify
Measure
Compute Histograms
Compute Statistics Histograms
Get Samples
Compute Class Statistics
Query Boundary
Compute Pixel Location
Compute Angles
Validate
Project