View In:
ArcGIS JavaScript
ArcGIS Online Map Viewer
ArcGIS Earth
Service Description: MedwayCreek/MedwayDSM
Name: MedwayCreek/MedwayDSM
Description:
Single Fused Map Cache: false
Extent:
XMin: 470000
YMin: 4760000
XMax: 480000
YMax: 4770000
Spatial Reference: 2150
(2958)
Initial Extent:
XMin: 470000
YMin: 4760000
XMax: 480000
YMax: 4770000
Spatial Reference: 2150
(2958)
Full Extent:
XMin: 470000
YMin: 4760000
XMax: 480000
YMax: 4770000
Spatial Reference: 2150
(2958)
Pixel Size X: 0.6666666666666666
Pixel Size Y: 2.4390243902439024
Band Count: 1
Pixel Type: F32
RasterFunction Infos: {"rasterFunctionInfos": [{
"name": "None",
"description": "",
"help": ""
}]}
Mensuration Capabilities: Basic
Inspection Capabilities:
Has Histograms: true
Has Colormap: false
Has Multi Dimensions : false
Rendering Rule:
Min Scale: 0
Max Scale: 0
Copyright Text:
Service Data Type: esriImageServiceDataTypeGeneric
Min Values: 230.80740356445
Max Values: 385.53277587891
Mean Values: 273.54396380902
Standard Deviation Values: 11.766710550546
Object ID Field:
Fields:
None
Default Mosaic Method: Center
Allowed Mosaic Methods:
SortField:
SortValue: null
Mosaic Operator: First
Default Compression Quality: 75
Default Resampling Method: Bilinear
Max Record Count: null
Max Image Height: 4100
Max Image Width: 15000
Max Download Image Count: null
Max Mosaic Image Count: null
Allow Raster Function: true
Allow Copy: true
Allow Analysis: true
Allow Compute TiePoints: false
Supports Statistics: false
Supports Advanced Queries: false
Use StandardizedQueries: true
Raster Type Infos:
Name: Raster Dataset
Description: Supports all ArcGIS Raster Datasets
Help:
Has Raster Attribute Table: false
Edit Fields Info: null
Ownership Based AccessControl For Rasters: null
Child Resources:
Info
Histograms
Statistics
Key Properties
Legend
Raster Function Infos
Supported Operations:
Export Image
Identify
Measure
Compute Histograms
Compute Statistics Histograms
Get Samples
Compute Class Statistics
Query Boundary
Compute Pixel Location
Compute Angles
Validate
Project